Package: CytoML Version: 2.18.1 Command: /home/biocbuild/bbs-3.20-bioc/R/bin/R CMD INSTALL CytoML StartedAt: 2025-02-10 15:28:06 -0500 (Mon, 10 Feb 2025) EndedAt: 2025-02-10 15:29:02 -0500 (Mon, 10 Feb 2025) EllapsedTime: 55.7 seconds RetCode: 0 Status: OK