Package: CytoML Version: 2.18.1 Command: rm -rf CytoML.buildbin-libdir && mkdir CytoML.buildbin-libdir && F:\biocbuild\bbs-3.20-bioc\R\bin\R.exe CMD INSTALL --build --library=CytoML.buildbin-libdir CytoML_2.18.1.tar.gz StartedAt: 2025-01-24 08:14:10 -0500 (Fri, 24 Jan 2025) EndedAt: 2025-01-24 08:18:07 -0500 (Fri, 24 Jan 2025) EllapsedTime: 236.5 seconds RetCode: 0 Status: OK PackageFile: CytoML_2.18.1.zip PackageFileSize: 10.28 MiB