Package: CytoML Version: 2.18.1 Command: /home/biocbuild/R/R/bin/R CMD build --keep-empty-dirs --no-resave-data CytoML StartedAt: 2025-02-03 22:58:43 -0000 (Mon, 03 Feb 2025) EndedAt: 2025-02-03 23:00:46 -0000 (Mon, 03 Feb 2025) EllapsedTime: 123.1 seconds RetCode: 0 Status: OK PackageFile: CytoML_2.18.1.tar.gz PackageFileSize: 7.87 MiB