Package: CytoML Version: 2.18.1 Command: /home/biocbuild/R/R/bin/R CMD INSTALL CytoML StartedAt: 2025-02-03 20:39:22 -0000 (Mon, 03 Feb 2025) EndedAt: 2025-02-03 20:40:41 -0000 (Mon, 03 Feb 2025) EllapsedTime: 79.2 seconds RetCode: 0 Status: OK