Package: CytoPipeline Version: 1.6.0 Command: /Library/Frameworks/R.framework/Resources/bin/R CMD build --keep-empty-dirs --no-resave-data CytoPipeline StartedAt: 2025-02-10 22:03:47 -0500 (Mon, 10 Feb 2025) EndedAt: 2025-02-10 22:04:42 -0500 (Mon, 10 Feb 2025) EllapsedTime: 54.5 seconds RetCode: 0 Status: OK PackageFile: CytoPipeline_1.6.0.tar.gz PackageFileSize: 3.339 MiB