Package: CytoPipeline Version: 1.6.0 Command: /home/biocbuild/bbs-3.20-bioc/R/bin/R CMD check --install=check:CytoPipeline.install-out.txt --library=/home/biocbuild/bbs-3.20-bioc/R/site-library --timings CytoPipeline_1.6.0.tar.gz StartedAt: 2025-02-03 21:31:09 -0500 (Mon, 03 Feb 2025) EndedAt: 2025-02-03 21:35:40 -0500 (Mon, 03 Feb 2025) EllapsedTime: 270.2 seconds RetCode: 0 Status: OK CheckDir: CytoPipeline.Rcheck Warnings: 0