Package: CytoPipeline Version: 1.6.0 Command: /home/biocbuild/bbs-3.20-bioc/R/bin/R CMD INSTALL CytoPipeline StartedAt: 2025-02-03 15:41:46 -0500 (Mon, 03 Feb 2025) EndedAt: 2025-02-03 15:42:00 -0500 (Mon, 03 Feb 2025) EllapsedTime: 14.8 seconds RetCode: 0 Status: OK