Package: CytoPipeline Version: 1.6.0 Command: rm -rf CytoPipeline.buildbin-libdir && mkdir CytoPipeline.buildbin-libdir && F:\biocbuild\bbs-3.20-bioc\R\bin\R.exe CMD INSTALL --build --library=CytoPipeline.buildbin-libdir CytoPipeline_1.6.0.tar.gz StartedAt: 2025-02-04 08:19:15 -0500 (Tue, 04 Feb 2025) EndedAt: 2025-02-04 08:20:31 -0500 (Tue, 04 Feb 2025) EllapsedTime: 76.0 seconds RetCode: 0 Status: OK PackageFile: CytoPipeline_1.6.0.zip PackageFileSize: 2.643 MiB