Package: CytoPipelineGUI Version: 1.4.0 Command: /Library/Frameworks/R.framework/Resources/bin/R CMD INSTALL CytoPipelineGUI StartedAt: 2025-02-03 16:45:52 -0500 (Mon, 03 Feb 2025) EndedAt: 2025-02-03 16:46:07 -0500 (Mon, 03 Feb 2025) EllapsedTime: 15.3 seconds RetCode: 0 Status: OK