Package: CytoPipelineGUI Version: 1.4.0 Command: rm -rf CytoPipelineGUI.buildbin-libdir && mkdir CytoPipelineGUI.buildbin-libdir && /Users/biocbuild/BBS/utils/build-universal.sh CytoPipelineGUI_1.4.0.tar.gz /Library/Frameworks/R.framework/Resources/bin/R CytoPipelineGUI.buildbin-libdir StartedAt: 2025-02-04 12:46:36 -0500 (Tue, 04 Feb 2025) EndedAt: 2025-02-04 12:47:07 -0500 (Tue, 04 Feb 2025) EllapsedTime: 30.5 seconds RetCode: 0 Status: OK PackageFile: CytoPipelineGUI_1.4.0.tgz PackageFileSize: 1.713 MiB