Package: CytoPipelineGUI Version: 1.4.0 Command: /Library/Frameworks/R.framework/Resources/bin/R CMD build --keep-empty-dirs --no-resave-data CytoPipelineGUI StartedAt: 2025-02-03 18:16:53 -0500 (Mon, 03 Feb 2025) EndedAt: 2025-02-03 18:18:26 -0500 (Mon, 03 Feb 2025) EllapsedTime: 93.7 seconds RetCode: 0 Status: OK PackageFile: CytoPipelineGUI_1.4.0.tar.gz PackageFileSize: 1.831 MiB