Package: CytoPipelineGUI Version: 1.4.0 Command: rm -rf CytoPipelineGUI.buildbin-libdir && mkdir CytoPipelineGUI.buildbin-libdir && F:\biocbuild\bbs-3.20-bioc\R\bin\R.exe CMD INSTALL --build --library=CytoPipelineGUI.buildbin-libdir CytoPipelineGUI_1.4.0.tar.gz StartedAt: 2025-02-11 08:16:40 -0500 (Tue, 11 Feb 2025) EndedAt: 2025-02-11 08:17:33 -0500 (Tue, 11 Feb 2025) EllapsedTime: 53.4 seconds RetCode: 0 Status: OK PackageFile: CytoPipelineGUI_1.4.0.zip PackageFileSize: 858.2 KiB