Package: CytoPipelineGUI Version: 1.4.0 Command: chmod a+r CytoPipelineGUI -R && F:\biocbuild\bbs-3.20-bioc\R\bin\R.exe CMD build --keep-empty-dirs --no-resave-data CytoPipelineGUI StartedAt: 2025-02-10 18:23:18 -0500 (Mon, 10 Feb 2025) EndedAt: 2025-02-10 18:24:39 -0500 (Mon, 10 Feb 2025) EllapsedTime: 80.9 seconds RetCode: 0 Status: OK PackageFile: CytoPipelineGUI_1.4.0.tar.gz PackageFileSize: 972.3 KiB