Package: CytoPipelineGUI Version: 1.4.0 Command: /home/biocbuild/R/R/bin/R CMD INSTALL CytoPipelineGUI StartedAt: 2025-02-10 20:43:33 -0000 (Mon, 10 Feb 2025) EndedAt: 2025-02-10 20:43:49 -0000 (Mon, 10 Feb 2025) EllapsedTime: 15.4 seconds RetCode: 0 Status: OK