Package: DAMEfinder Version: 1.18.0 Command: /Library/Frameworks/R.framework/Resources/bin/R CMD INSTALL DAMEfinder StartedAt: 2025-01-30 16:20:50 -0500 (Thu, 30 Jan 2025) EndedAt: 2025-01-30 16:21:23 -0500 (Thu, 30 Jan 2025) EllapsedTime: 32.8 seconds RetCode: 0 Status: OK