Package: DAMEfinder Version: 1.18.0 Command: rm -rf DAMEfinder.buildbin-libdir && mkdir DAMEfinder.buildbin-libdir && /Users/biocbuild/BBS/utils/build-universal.sh DAMEfinder_1.18.0.tar.gz /Library/Frameworks/R.framework/Resources/bin/R DAMEfinder.buildbin-libdir StartedAt: 2025-02-04 12:46:45 -0500 (Tue, 04 Feb 2025) EndedAt: 2025-02-04 12:47:48 -0500 (Tue, 04 Feb 2025) EllapsedTime: 63.0 seconds RetCode: 0 Status: OK PackageFile: DAMEfinder_1.18.0.tgz PackageFileSize: 5.044 MiB