Package: DAMEfinder Version: 1.18.0 Command: /Library/Frameworks/R.framework/Resources/bin/R CMD check --install=check:DAMEfinder.install-out.txt --library=/Library/Frameworks/R.framework/Resources/library --no-vignettes --timings DAMEfinder_1.18.0.tar.gz StartedAt: 2025-02-04 02:16:17 -0500 (Tue, 04 Feb 2025) EndedAt: 2025-02-04 02:29:33 -0500 (Tue, 04 Feb 2025) EllapsedTime: 795.8 seconds RetCode: 0 Status: OK CheckDir: DAMEfinder.Rcheck Warnings: 0