Package: DAMEfinder Version: 1.18.0 Command: /Library/Frameworks/R.framework/Resources/bin/R CMD INSTALL DAMEfinder StartedAt: 2025-02-03 15:53:13 -0500 (Mon, 03 Feb 2025) EndedAt: 2025-02-03 15:54:14 -0500 (Mon, 03 Feb 2025) EllapsedTime: 61.2 seconds RetCode: 0 Status: OK