Package: DAMEfinder Version: 1.18.0 Command: /home/biocbuild/bbs-3.20-bioc/R/bin/R CMD build --keep-empty-dirs --no-resave-data --md5 DAMEfinder StartedAt: 2025-01-30 16:55:35 -0500 (Thu, 30 Jan 2025) EndedAt: 2025-01-30 16:57:33 -0500 (Thu, 30 Jan 2025) EllapsedTime: 118.2 seconds RetCode: 0 Status: OK PackageFile: DAMEfinder_1.18.0.tar.gz PackageFileSize: 4.7 MiB