Package: DAMEfinder Version: 1.18.0 Command: /home/biocbuild/bbs-3.20-bioc/R/bin/R CMD check --install=check:DAMEfinder.install-out.txt --library=/home/biocbuild/bbs-3.20-bioc/R/site-library --timings DAMEfinder_1.18.0.tar.gz StartedAt: 2025-01-30 21:22:25 -0500 (Thu, 30 Jan 2025) EndedAt: 2025-01-30 21:28:58 -0500 (Thu, 30 Jan 2025) EllapsedTime: 392.4 seconds RetCode: 0 Status: OK CheckDir: DAMEfinder.Rcheck Warnings: 0