Package: DAMEfinder Version: 1.18.0 Command: chmod a+r DAMEfinder -R && F:\biocbuild\bbs-3.20-bioc\R\bin\R.exe CMD build --keep-empty-dirs --no-resave-data DAMEfinder StartedAt: 2025-01-30 18:15:24 -0500 (Thu, 30 Jan 2025) EndedAt: 2025-01-30 18:18:02 -0500 (Thu, 30 Jan 2025) EllapsedTime: 157.3 seconds RetCode: 0 Status: OK PackageFile: DAMEfinder_1.18.0.tar.gz PackageFileSize: 3.057 MiB