Package: DAMEfinder Version: 1.18.0 Command: F:\biocbuild\bbs-3.20-bioc\R\bin\R.exe CMD check --no-multiarch --install=check:DAMEfinder.install-out.txt --library=F:\biocbuild\bbs-3.20-bioc\R\library --no-vignettes --timings DAMEfinder_1.18.0.tar.gz StartedAt: 2025-01-31 01:06:37 -0500 (Fri, 31 Jan 2025) EndedAt: 2025-01-31 01:12:54 -0500 (Fri, 31 Jan 2025) EllapsedTime: 377.1 seconds RetCode: 0 Status: OK CheckDir: DAMEfinder.Rcheck Warnings: 0