Package: DAMEfinder Version: 1.18.0 Command: F:\biocbuild\bbs-3.20-bioc\R\bin\R.exe CMD INSTALL DAMEfinder StartedAt: 2025-01-30 16:16:10 -0500 (Thu, 30 Jan 2025) EndedAt: 2025-01-30 16:16:52 -0500 (Thu, 30 Jan 2025) EllapsedTime: 42.0 seconds RetCode: 0 Status: OK