Package: DAMEfinder Version: 1.18.0 Command: /home/biocbuild/R/R/bin/R CMD check --install=check:DAMEfinder.install-out.txt --library=/home/biocbuild/R/R/site-library --no-vignettes --timings DAMEfinder_1.18.0.tar.gz StartedAt: 2025-02-04 06:10:58 -0000 (Tue, 04 Feb 2025) EndedAt: 2025-02-04 06:17:24 -0000 (Tue, 04 Feb 2025) EllapsedTime: 386.3 seconds RetCode: 0 Status: OK CheckDir: DAMEfinder.Rcheck Warnings: 0