Package: DCATS Version: 1.4.0 Command: /Library/Frameworks/R.framework/Resources/bin/R CMD check --install=check:DCATS.install-out.txt --library=/Library/Frameworks/R.framework/Resources/library --no-vignettes --timings DCATS_1.4.0.tar.gz StartedAt: 2025-02-04 17:16:29 -0500 (Tue, 04 Feb 2025) EndedAt: 2025-02-04 17:18:17 -0500 (Tue, 04 Feb 2025) EllapsedTime: 108.0 seconds RetCode: 0 Status: OK CheckDir: DCATS.Rcheck Warnings: 0