Package: DCATS Version: 1.4.0 Command: /Library/Frameworks/R.framework/Resources/bin/R CMD INSTALL DCATS StartedAt: 2025-02-03 17:10:13 -0500 (Mon, 03 Feb 2025) EndedAt: 2025-02-03 17:10:21 -0500 (Mon, 03 Feb 2025) EllapsedTime: 8.3 seconds RetCode: 0 Status: OK