Package: DCATS Version: 1.4.0 Command: rm -rf DCATS.buildbin-libdir && mkdir DCATS.buildbin-libdir && /Users/biocbuild/BBS/utils/build-universal.sh DCATS_1.4.0.tar.gz /Library/Frameworks/R.framework/Resources/bin/R DCATS.buildbin-libdir StartedAt: 2025-02-04 12:47:06 -0500 (Tue, 04 Feb 2025) EndedAt: 2025-02-04 12:47:20 -0500 (Tue, 04 Feb 2025) EllapsedTime: 14.5 seconds RetCode: 0 Status: OK PackageFile: DCATS_1.4.0.tgz PackageFileSize: 2.866 MiB