Package: DCATS Version: 1.4.0 Command: /Library/Frameworks/R.framework/Resources/bin/R CMD build --keep-empty-dirs --no-resave-data DCATS StartedAt: 2025-02-03 18:18:26 -0500 (Mon, 03 Feb 2025) EndedAt: 2025-02-03 18:18:58 -0500 (Mon, 03 Feb 2025) EllapsedTime: 32.2 seconds RetCode: 0 Status: OK PackageFile: DCATS_1.4.0.tar.gz PackageFileSize: 2.836 MiB