Package: DCATS Version: 1.4.0 Command: /Library/Frameworks/R.framework/Resources/bin/R CMD INSTALL DCATS StartedAt: 2025-02-10 16:10:22 -0500 (Mon, 10 Feb 2025) EndedAt: 2025-02-10 16:10:35 -0500 (Mon, 10 Feb 2025) EllapsedTime: 13.4 seconds RetCode: 0 Status: OK