Package: DECIPHER Version: 3.2.0 Command: /Library/Frameworks/R.framework/Resources/bin/R CMD build --keep-empty-dirs --no-resave-data DECIPHER StartedAt: 2025-02-03 22:00:55 -0500 (Mon, 03 Feb 2025) EndedAt: 2025-02-03 22:27:44 -0500 (Mon, 03 Feb 2025) EllapsedTime: 1608.4 seconds RetCode: 0 Status: OK PackageFile: DECIPHER_3.2.0.tar.gz PackageFileSize: 16.78 MiB