Package: DECIPHER Version: 3.2.0 Command: /Library/Frameworks/R.framework/Resources/bin/R CMD check --install=check:DECIPHER.install-out.txt --library=/Library/Frameworks/R.framework/Resources/library --no-vignettes --timings DECIPHER_3.2.0.tar.gz StartedAt: 2025-02-04 17:20:57 -0500 (Tue, 04 Feb 2025) EndedAt: 2025-02-04 17:41:47 -0500 (Tue, 04 Feb 2025) EllapsedTime: 1250.1 seconds RetCode: 0 Status: OK CheckDir: DECIPHER.Rcheck Warnings: 0