############################################################################## ############################################################################## ### ### Running command: ### ### /Library/Frameworks/R.framework/Resources/bin/R CMD check --install=check:DECIPHER.install-out.txt --library=/Library/Frameworks/R.framework/Resources/library --no-vignettes --timings DECIPHER_3.2.0.tar.gz ### ############################################################################## ############################################################################## * using log directory ‘/Users/biocbuild/bbs-3.20-bioc/meat/DECIPHER.Rcheck’ * using R version 4.4.2 (2024-10-31) * using platform: x86_64-apple-darwin20 * R was compiled by Apple clang version 14.0.0 (clang-1400.0.29.202) GNU Fortran (GCC) 12.2.0 * running under: macOS Monterey 12.7.6 * using session charset: UTF-8 * using option ‘--no-vignettes’ * checking for file ‘DECIPHER/DESCRIPTION’ ... OK * checking extension type ... Package * this is package ‘DECIPHER’ version ‘3.2.0’ * checking package namespace information ... OK * checking package dependencies ... OK * checking if this is a source package ... OK * checking if there is a namespace ... OK * checking for hidden files and directories ... OK * checking for portable file names ... OK * checking for sufficient/correct file permissions ... OK * checking whether package ‘DECIPHER’ can be installed ... OK * used C compiler: ‘Apple clang version 14.0.0 (clang-1400.0.29.202)’ * used SDK: ‘MacOSX11.3.sdk’ * checking installed package size ... NOTE installed size is 12.5Mb sub-directories of 1Mb or more: R 1.5Mb data 7.5Mb extdata 2.5Mb * checking package directory ... OK * checking ‘build’ directory ... OK * checking DESCRIPTION meta-information ... OK * checking top-level files ... OK * checking for left-over files ... OK * checking index information ... OK * checking package subdirectories ... OK * checking code files for non-ASCII characters ... OK * checking R files for syntax errors ... OK * checking whether the package can be loaded ... OK * checking whether the package can be loaded with stated dependencies ... OK * checking whether the package can be unloaded cleanly ... OK * checking whether the namespace can be loaded with stated dependencies ... OK * checking whether the namespace can be unloaded cleanly ... OK * checking dependencies in R code ... OK * checking S3 generic/method consistency ... OK * checking replacement functions ... OK * checking foreign function calls ... OK * checking R code for possible problems ... NOTE AlignSeqs: no visible binding for global variable ‘deltaGrulesRNA’ DesignSignatures: no visible binding for global variable ‘deltaHrules’ FindGenes: no visible binding for global variable ‘deltaHrulesRNA’ FindNonCoding: no visible binding for global variable ‘deltaHrulesRNA’ LearnNonCoding: no visible binding for global variable ‘deltaHrulesRNA’ PredictDBN: no visible binding for global variable ‘deltaGrulesRNA’ Treeline: multiple local function definitions for ‘.NNI’ with different formal arguments Treeline: multiple local function definitions for ‘.minimize’ with different formal arguments Undefined global functions or variables: deltaGrulesRNA deltaHrules deltaHrulesRNA * checking Rd files ... OK * checking Rd metadata ... OK * checking Rd cross-references ... OK * checking for missing documentation entries ... OK * checking for code/documentation mismatches ... OK * checking Rd \usage sections ... OK * checking Rd contents ... OK * checking for unstated dependencies in examples ... OK * checking contents of ‘data’ directory ... OK * checking data for non-ASCII characters ... OK * checking data for ASCII and uncompressed saves ... OK * checking line endings in C/C++/Fortran sources/headers ... OK * checking line endings in Makefiles ... OK * checking compilation flags in Makevars ... OK * checking for GNU extensions in Makefiles ... OK * checking for portable use of $(BLAS_LIBS) and $(LAPACK_LIBS) ... OK * checking use of PKG_*FLAGS in Makefiles ... OK * checking compiled code ... NOTE Note: information on .o files is not available * checking sizes of PDF files under ‘inst/doc’ ... OK * checking files in ‘vignettes’ ... OK * checking examples ... OK Examples with CPU (user + system) or elapsed time > 5s user system elapsed AlignSeqs 481.355 8.317 601.633 TreeLine 213.089 6.276 252.079 LearnNonCoding 170.967 6.323 203.929 FindNonCoding 96.057 6.081 117.188 ExtractGenes 74.892 1.824 96.578 Genes-class 74.713 1.947 87.526 FindGenes 73.810 1.874 92.804 WriteGenes 70.394 2.140 88.366 BrowseSeqs 57.927 1.132 77.637 CorrectFrameshifts 36.902 1.801 50.313 DetectRepeats 28.949 0.317 40.962 StaggerAlignment 26.842 1.206 32.341 AlignTranslation 26.429 0.450 33.829 Taxa-class 16.728 0.942 20.341 MapCharacters 15.948 0.512 18.401 IdTaxa 15.392 0.541 18.909 Cophenetic 13.377 0.133 17.207 LearnTaxa 10.067 2.464 13.922 ScoreAlignment 11.352 0.411 13.115 Clusterize 10.554 0.768 14.686 Array2Matrix 9.494 0.104 12.220 TileSeqs 9.377 0.079 10.827 DesignArray 9.335 0.087 16.032 AlignPairs 6.450 0.213 8.413 AlignSynteny 6.232 0.076 7.927 TrainingSet_16S 5.327 0.083 6.221 Synteny-class 4.660 0.101 5.387 * checking for unstated dependencies in vignettes ... OK * checking package vignettes ... OK * checking running R code from vignettes ... SKIPPED * checking re-building of vignette outputs ... SKIPPED * checking PDF version of manual ... OK * DONE Status: 3 NOTEs See ‘/Users/biocbuild/bbs-3.20-bioc/meat/DECIPHER.Rcheck/00check.log’ for details.