Package: DECIPHER Version: 3.2.0 Command: /Library/Frameworks/R.framework/Resources/bin/R CMD INSTALL DECIPHER StartedAt: 2025-01-30 15:22:52 -0500 (Thu, 30 Jan 2025) EndedAt: 2025-01-30 15:25:13 -0500 (Thu, 30 Jan 2025) EllapsedTime: 141.3 seconds RetCode: 0 Status: OK