Package: DECIPHER Version: 3.2.0 Command: /home/biocbuild/bbs-3.20-bioc/R/bin/R CMD build --keep-empty-dirs --no-resave-data --md5 DECIPHER StartedAt: 2025-02-03 17:06:09 -0500 (Mon, 03 Feb 2025) EndedAt: 2025-02-03 17:23:09 -0500 (Mon, 03 Feb 2025) EllapsedTime: 1020.1 seconds RetCode: 0 Status: OK PackageFile: DECIPHER_3.2.0.tar.gz PackageFileSize: 16.8 MiB