Package: DECIPHER Version: 3.2.0 Command: /home/biocbuild/bbs-3.20-bioc/R/bin/R CMD check --install=check:DECIPHER.install-out.txt --library=/home/biocbuild/bbs-3.20-bioc/R/site-library --timings DECIPHER_3.2.0.tar.gz StartedAt: 2025-02-03 21:35:25 -0500 (Mon, 03 Feb 2025) EndedAt: 2025-02-03 22:09:05 -0500 (Mon, 03 Feb 2025) EllapsedTime: 2020.9 seconds RetCode: 0 Status: OK CheckDir: DECIPHER.Rcheck Warnings: 0