Package: DECIPHER Version: 3.2.0 Command: /home/biocbuild/bbs-3.20-bioc/R/bin/R CMD INSTALL DECIPHER StartedAt: 2025-02-03 15:22:51 -0500 (Mon, 03 Feb 2025) EndedAt: 2025-02-03 15:23:49 -0500 (Mon, 03 Feb 2025) EllapsedTime: 58.3 seconds RetCode: 0 Status: OK