Package: DECIPHER Version: 3.2.0 Command: rm -rf DECIPHER.buildbin-libdir && mkdir DECIPHER.buildbin-libdir && F:\biocbuild\bbs-3.20-bioc\R\bin\R.exe CMD INSTALL --build --library=DECIPHER.buildbin-libdir DECIPHER_3.2.0.tar.gz StartedAt: 2025-02-04 08:20:12 -0500 (Tue, 04 Feb 2025) EndedAt: 2025-02-04 08:21:55 -0500 (Tue, 04 Feb 2025) EllapsedTime: 102.6 seconds RetCode: 0 Status: OK PackageFile: DECIPHER_3.2.0.zip PackageFileSize: 16.61 MiB