Package: DECIPHER Version: 3.2.0 Command: chmod a+r DECIPHER -R && F:\biocbuild\bbs-3.20-bioc\R\bin\R.exe CMD build --keep-empty-dirs --no-resave-data DECIPHER StartedAt: 2025-02-03 18:32:15 -0500 (Mon, 03 Feb 2025) EndedAt: 2025-02-03 18:54:13 -0500 (Mon, 03 Feb 2025) EllapsedTime: 1318.7 seconds RetCode: 0 Status: OK PackageFile: DECIPHER_3.2.0.tar.gz PackageFileSize: 16.83 MiB