Package: DECIPHER Version: 3.2.0 Command: /home/biocbuild/R/R/bin/R CMD INSTALL DECIPHER StartedAt: 2025-02-03 20:32:28 -0000 (Mon, 03 Feb 2025) EndedAt: 2025-02-03 20:33:57 -0000 (Mon, 03 Feb 2025) EllapsedTime: 89.7 seconds RetCode: 0 Status: OK