Package: DEFormats Version: 1.34.0 Command: /Library/Frameworks/R.framework/Resources/bin/R CMD build --keep-empty-dirs --no-resave-data DEFormats StartedAt: 2025-02-03 22:10:13 -0500 (Mon, 03 Feb 2025) EndedAt: 2025-02-03 22:10:58 -0500 (Mon, 03 Feb 2025) EllapsedTime: 44.7 seconds RetCode: 0 Status: OK PackageFile: DEFormats_1.34.0.tar.gz PackageFileSize: 226.4 KiB