Package: DEFormats Version: 1.34.0 Command: /Library/Frameworks/R.framework/Resources/bin/R CMD check --install=check:DEFormats.install-out.txt --library=/Library/Frameworks/R.framework/Resources/library --no-vignettes --timings DEFormats_1.34.0.tar.gz StartedAt: 2025-02-04 17:27:46 -0500 (Tue, 04 Feb 2025) EndedAt: 2025-02-04 17:31:07 -0500 (Tue, 04 Feb 2025) EllapsedTime: 201.0 seconds RetCode: 0 Status: OK CheckDir: DEFormats.Rcheck Warnings: 0