Package: DEFormats Version: 1.34.0 Command: rm -rf DEFormats.buildbin-libdir && mkdir DEFormats.buildbin-libdir && /Users/biocbuild/BBS/utils/build-universal.sh DEFormats_1.34.0.tar.gz /Library/Frameworks/R.framework/Resources/bin/R DEFormats.buildbin-libdir StartedAt: 2025-02-04 12:47:48 -0500 (Tue, 04 Feb 2025) EndedAt: 2025-02-04 12:48:47 -0500 (Tue, 04 Feb 2025) EllapsedTime: 58.9 seconds RetCode: 0 Status: OK PackageFile: DEFormats_1.34.0.tgz PackageFileSize: 487.4 KiB