Package: DEFormats Version: 1.34.0 Command: /home/biocbuild/bbs-3.20-bioc/R/bin/R CMD build --keep-empty-dirs --no-resave-data --md5 DEFormats StartedAt: 2025-02-03 17:07:02 -0500 (Mon, 03 Feb 2025) EndedAt: 2025-02-03 17:07:37 -0500 (Mon, 03 Feb 2025) EllapsedTime: 35.0 seconds RetCode: 0 Status: OK PackageFile: DEFormats_1.34.0.tar.gz PackageFileSize: 227.2 KiB