Package: DEFormats Version: 1.34.0 Command: rm -rf DEFormats.buildbin-libdir && mkdir DEFormats.buildbin-libdir && F:\biocbuild\bbs-3.20-bioc\R\bin\R.exe CMD INSTALL --build --library=DEFormats.buildbin-libdir DEFormats_1.34.0.tar.gz StartedAt: 2025-02-04 08:20:39 -0500 (Tue, 04 Feb 2025) EndedAt: 2025-02-04 08:21:20 -0500 (Tue, 04 Feb 2025) EllapsedTime: 40.5 seconds RetCode: 0 Status: OK PackageFile: DEFormats_1.34.0.zip PackageFileSize: 495.4 KiB