Package: DEFormats Version: 1.34.0 Command: /home/biocbuild/R/R/bin/R CMD build --keep-empty-dirs --no-resave-data DEFormats StartedAt: 2025-02-03 23:04:40 -0000 (Mon, 03 Feb 2025) EndedAt: 2025-02-03 23:05:25 -0000 (Mon, 03 Feb 2025) EllapsedTime: 45.0 seconds RetCode: 0 Status: OK PackageFile: DEFormats_1.34.0.tar.gz PackageFileSize: 250.9 KiB