Package: DEFormats Version: 1.34.0 Command: /home/biocbuild/R/R/bin/R CMD check --install=check:DEFormats.install-out.txt --library=/home/biocbuild/R/R/site-library --no-vignettes --timings DEFormats_1.34.0.tar.gz StartedAt: 2025-02-04 06:14:55 -0000 (Tue, 04 Feb 2025) EndedAt: 2025-02-04 06:18:31 -0000 (Tue, 04 Feb 2025) EllapsedTime: 216.2 seconds RetCode: 0 Status: OK CheckDir: DEFormats.Rcheck Warnings: 0