Package: DEGraph Version: 1.58.0 Command: /home/biocbuild/R/R/bin/R CMD INSTALL DEGraph StartedAt: 2024-11-19 21:09:53 -0000 (Tue, 19 Nov 2024) EndedAt: 2024-11-19 21:10:05 -0000 (Tue, 19 Nov 2024) EllapsedTime: 11.9 seconds RetCode: 0 Status: OK