Package: DEGreport Version: 1.42.0 Command: /Library/Frameworks/R.framework/Resources/bin/R CMD build --keep-empty-dirs --no-resave-data DEGreport StartedAt: 2025-02-03 22:12:26 -0500 (Mon, 03 Feb 2025) EndedAt: 2025-02-03 22:13:44 -0500 (Mon, 03 Feb 2025) EllapsedTime: 77.8 seconds RetCode: 0 Status: OK PackageFile: DEGreport_1.42.0.tar.gz PackageFileSize: 19.73 MiB