Package: DEGreport Version: 1.42.0 Command: /Library/Frameworks/R.framework/Resources/bin/R CMD INSTALL DEGreport StartedAt: 2025-02-03 16:20:39 -0500 (Mon, 03 Feb 2025) EndedAt: 2025-02-03 16:21:13 -0500 (Mon, 03 Feb 2025) EllapsedTime: 34.3 seconds RetCode: 0 Status: OK