Package: DEGreport Version: 1.42.0 Command: /Library/Frameworks/R.framework/Resources/bin/R CMD build --keep-empty-dirs --no-resave-data DEGreport StartedAt: 2025-02-03 18:22:54 -0500 (Mon, 03 Feb 2025) EndedAt: 2025-02-03 18:25:37 -0500 (Mon, 03 Feb 2025) EllapsedTime: 163.1 seconds RetCode: 0 Status: OK PackageFile: DEGreport_1.42.0.tar.gz PackageFileSize: 19.71 MiB